BEGIN:VCALENDAR
VERSION:2.0
PRODID:-//Community Music School of Buffalo - ECPv6.15.20//NONSGML v1.0//EN
CALSCALE:GREGORIAN
METHOD:PUBLISH
X-ORIGINAL-URL:https://communitymusicbuffalo.org
X-WR-CALDESC:Events for Community Music School of Buffalo
REFRESH-INTERVAL;VALUE=DURATION:PT1H
X-Robots-Tag:noindex
X-PUBLISHED-TTL:PT1H
BEGIN:VTIMEZONE
TZID:America/New_York
BEGIN:DAYLIGHT
TZOFFSETFROM:-0500
TZOFFSETTO:-0400
TZNAME:EDT
DTSTART:20250309T070000
END:DAYLIGHT
BEGIN:STANDARD
TZOFFSETFROM:-0400
TZOFFSETTO:-0500
TZNAME:EST
DTSTART:20251102T060000
END:STANDARD
BEGIN:DAYLIGHT
TZOFFSETFROM:-0500
TZOFFSETTO:-0400
TZNAME:EDT
DTSTART:20260308T070000
END:DAYLIGHT
BEGIN:STANDARD
TZOFFSETFROM:-0400
TZOFFSETTO:-0500
TZNAME:EST
DTSTART:20261101T060000
END:STANDARD
BEGIN:DAYLIGHT
TZOFFSETFROM:-0500
TZOFFSETTO:-0400
TZNAME:EDT
DTSTART:20270314T070000
END:DAYLIGHT
BEGIN:STANDARD
TZOFFSETFROM:-0400
TZOFFSETTO:-0500
TZNAME:EST
DTSTART:20271107T060000
END:STANDARD
END:VTIMEZONE
BEGIN:VEVENT
DTSTART;VALUE=DATE:20260320
DTEND;VALUE=DATE:20260321
DTSTAMP:20260420T014322
CREATED:20250918T233026Z
LAST-MODIFIED:20250918T233026Z
UID:5688-1773964800-1774051199@communitymusicbuffalo.org
SUMMARY:Spring Equinox
DESCRIPTION:
URL:https://communitymusicbuffalo.org/event/spring-equinox/
LOCATION:CMS Hamlin Park\, 217 E. Delavan Ave\, Buffalo\, NY\, 14208
END:VEVENT
BEGIN:VEVENT
DTSTART;TZID=America/New_York:20260322T100000
DTEND;TZID=America/New_York:20260322T160000
DTSTAMP:20260420T014322
CREATED:20250908T204227Z
LAST-MODIFIED:20250908T204227Z
UID:5548-1774173600-1774195200@communitymusicbuffalo.org
SUMMARY:Kenneth Atkinson Memorial Scholarship Competition
DESCRIPTION:
URL:https://communitymusicbuffalo.org/event/kenneth-atkinson-memorial-scholarship-competition/
LOCATION:CMS Hamlin Park\, 217 E. Delavan Ave\, Buffalo\, NY\, 14208
END:VEVENT
BEGIN:VEVENT
DTSTART;VALUE=DATE:20260329
DTEND;VALUE=DATE:20260330
DTSTAMP:20260420T014322
CREATED:20250915T170657Z
LAST-MODIFIED:20250915T170657Z
UID:5600-1774742400-1774828799@communitymusicbuffalo.org
SUMMARY:World Piano Day
DESCRIPTION:
URL:https://communitymusicbuffalo.org/event/world-piano-day/
LOCATION:CMS Hamlin Park\, 217 E. Delavan Ave\, Buffalo\, NY\, 14208
END:VEVENT
END:VCALENDAR